BEGIN:VCALENDAR
VERSION:2.0
PRODID:-//La Berthenoux - ECPv6.15.20//NONSGML v1.0//EN
CALSCALE:GREGORIAN
METHOD:PUBLISH
X-WR-CALNAME:La Berthenoux
X-ORIGINAL-URL:https://www.mairie-la-berthenoux.fr
X-WR-CALDESC:Évènements pour La Berthenoux
REFRESH-INTERVAL;VALUE=DURATION:PT1H
X-Robots-Tag:noindex
X-PUBLISHED-TTL:PT1H
BEGIN:VTIMEZONE
TZID:Europe/Paris
BEGIN:DAYLIGHT
TZOFFSETFROM:+0100
TZOFFSETTO:+0200
TZNAME:CEST
DTSTART:20200329T010000
END:DAYLIGHT
BEGIN:STANDARD
TZOFFSETFROM:+0200
TZOFFSETTO:+0100
TZNAME:CET
DTSTART:20201025T010000
END:STANDARD
BEGIN:DAYLIGHT
TZOFFSETFROM:+0100
TZOFFSETTO:+0200
TZNAME:CEST
DTSTART:20210328T010000
END:DAYLIGHT
BEGIN:STANDARD
TZOFFSETFROM:+0200
TZOFFSETTO:+0100
TZNAME:CET
DTSTART:20211031T010000
END:STANDARD
BEGIN:DAYLIGHT
TZOFFSETFROM:+0100
TZOFFSETTO:+0200
TZNAME:CEST
DTSTART:20220327T010000
END:DAYLIGHT
BEGIN:STANDARD
TZOFFSETFROM:+0200
TZOFFSETTO:+0100
TZNAME:CET
DTSTART:20221030T010000
END:STANDARD
END:VTIMEZONE
BEGIN:VEVENT
DTSTART;TZID=Europe/Paris:20210721T083000
DTEND;TZID=Europe/Paris:20210721T123000
DTSTAMP:20260423T230759
CREATED:20210720T160724Z
LAST-MODIFIED:20210720T160724Z
UID:285-1626856200-1626870600@www.mairie-la-berthenoux.fr
SUMMARY:Coupures d'électricité - travaux
DESCRIPTION:Lieux-dits concernés : Les Héraults\, Bretagne\, l’Erable\, Les Bergeries\, Les Petites Bergeries\, l’Épinguet\, La Métairie
URL:https://www.mairie-la-berthenoux.fr/event/coupures-delectricite-travaux/
CATEGORIES:TRAVAUX
END:VEVENT
END:VCALENDAR